BEGIN:VCALENDAR
VERSION:2.0
PRODID:-//wp-events-plugin.com//7.2.3.1//EN
BEGIN:VEVENT
UID:144@salaolimpo.com
DTSTART:20260426T200000Z
DTEND:20260427T020000Z
DTSTAMP:20260422T134016Z
URL:https://salaolimpo.com/events/domingos-de-tardeo-chill/
SUMMARY:Domingos de tardeo Chill
DESCRIPTION:¿Buscas el plan perfecto para terminar el domingo? Olvida la r
 utina y sumérgete en un ambiente chill\, diseñado para quienes saben dis
 frutar de la vida. En Olimpo\, hemos creado el espacio ideal para desconec
 tar\, tomar una copa premium y conectar con gente como tú.\n\nYa sea que 
 vengas con tu grupo de amigos o quieras disfrutar de una tarde especial en
  pareja\, nuestra sesión de tardeo ofrece la mezcla perfecta entre músic
 a de calidad\, ambiente seguro y ese toque de distinción que nos caracter
 iza.\n\n¿Por qué elegir nuestro Tardeo?\n\n• Ambiente Selecto: Un púb
 lico que valora el respeto\, la educación y la diversión sana.\n\n• Lo
 calización Premium: Olvida las vueltas para aparcar\; tenemos parking gra
 tuito justo frente a la sala.\n\n• Fiesta Segura: Tu tranquilidad es nue
 stra prioridad. Disfruta con total libertad en un entorno cuidado.\n\nTari
 fas de Acceso\n\nGeneral (Solo Discoteca)• Entrada: 15€ (incluye 1 con
 sumición)Experiencia VIP (Discoteca + Zona Superior)• Chicos: 40€ (in
 cluye 2 consumiciones)\n\n• Chicas: 20€ (incluye 2 consumiciones)\n\n
 • Parejas:\n\n* Opción A: 40€ (incluye 2 consumiciones)\n\n* Opción 
 B: 50€ (incluye 4 consumiciones)\n\n\n
ATTACH;FMTTYPE=image/jpeg:https://salaolimpo.com/wp-content/uploads/2026/0
 3/DOMINGO-DE-TARDEO-SUNDAY-SESSION-El-plan-ideal-para-terminar-la-semana-P
 LAN-CHILL-UNA-COPA-Y-BUENA-COMPANIA-AMIGOS-O-EN-PAREJA-ABRIMOS-A-LAS-2000-
 H-Te-esperamos-este-domingo.jpeg
CATEGORIES:FIESTAS
LOCATION:SALA OLIMPO\, C/ FRANCIA 13 LOCAL 10\, GRIÑON\, Madrid\, 28971\, 
 MADRID\, España
X-APPLE-STRUCTURED-LOCATION;VALUE=URI;X-ADDRESS=C/ FRANCIA 13 LOCAL 10\, GR
 IÑON\, Madrid\, 28971\, MADRID\, España;X-APPLE-RADIUS=100;X-TITLE=SALA 
 OLIMPO:geo:0,0
END:VEVENT
END:VCALENDAR