BEGIN:VCALENDAR
VERSION:2.0
PRODID:-//wp-events-plugin.com//7.2.3.1//EN
BEGIN:VEVENT
UID:148@salaolimpo.com
DTSTART:20260424T230000Z
DTEND:20260425T050000Z
DTSTAMP:20260421T150421Z
URL:https://salaolimpo.com/events/viernes-de-olimpo-tu-punto-de-encuentro/
SUMMARY:Viernes de Olimpo. Tu punto de encuentro
DESCRIPTION:Tu punto de encuentro donde la elegancia y el buen rollo se cru
 zan.\n\n¿Buscas el plan perfecto para empezar el fin de semana? En Olimpo
  hemos diseñado los viernes pensando en ti. Olvida las complicaciones y s
 umérgete en una atmósfera única\, creada para quienes buscan disfrutar 
 de la noche con clase\, respeto y la mejor compañía.\n\n¿Qué te espera
  este viernes en Sala Olimpo?\n\n• &#x1f3a7\; DJ en Directo: Contamos co
 n la presencia de DJ Tito Domínguez\, encargado de poner banda sonora a l
 a noche con los mejores hits y mezclas en vivo.\n\n• &#x1f91d\; Ambiente
  Exclusivo: Nuestra prioridad es tu comodidad. Fomentamos un ambiente de r
 espeto y educación\, ideal para parejas y grupos que quieren ligar y bail
 ar en un entorno seguro y divertido.\n\n• &#x1f17f\;&#xfe0f\; Parking Gr
 atuito: No des vueltas. Tenemos parking gratuito justo frente a la sala pa
 ra que tu única preocupación sea disfrutar desde el minuto uno.\n\n• &
 #x23f0\; Horario: Te acompañamos desde las 23:00 hasta las 05:00\, para q
 ue la fiesta no pare hasta el amanecer.\n\n&#x1f4cd\; Ubicación: Calle Fr
 ancia 13\, Local 10 – Griñón\, Madrid.\n\nTarifas de Acceso\n\nGeneral
  (Solo Discoteca)• Entrada por persona: 15€ (incluye 1 consumición)Ex
 periencia VIP (Discoteca + Zona Superior)• Chicos: 40€ (incluye 2 cons
 umiciones)\n\n• Chicas: 20€ (incluye 2 consumiciones)\n\n• Parejas:\
 n\n* Opción A: 40€ (incluye 2 consumiciones)\n\n* Opción B: 50€ (inc
 luye 4 consumiciones)\n\n\n\n\n\n&nbsp\;
ATTACH;FMTTYPE=image/jpeg:https://salaolimpo.com/wp-content/uploads/2026/0
 4/IMG_1327.png
CATEGORIES:FIESTAS
LOCATION:SALA OLIMPO\, C/ FRANCIA 13 LOCAL 10\, GRIÑON\, Madrid\, 28971\, 
 MADRID\, España
X-APPLE-STRUCTURED-LOCATION;VALUE=URI;X-ADDRESS=C/ FRANCIA 13 LOCAL 10\, GR
 IÑON\, Madrid\, 28971\, MADRID\, España;X-APPLE-RADIUS=100;X-TITLE=SALA 
 OLIMPO:geo:0,0
END:VEVENT
END:VCALENDAR